	BEGIN:VCALENDAR
VERSION:2.0
PRODID:-//Wheaton College Massachusetts - ECPv6.15.20//NONSGML v1.0//EN
CALSCALE:GREGORIAN
METHOD:PUBLISH
X-ORIGINAL-URL:https://wheatoncollege.edu
X-WR-CALDESC:Events for Wheaton College Massachusetts
REFRESH-INTERVAL;VALUE=DURATION:PT1H
X-Robots-Tag:noindex
X-PUBLISHED-TTL:PT1H
BEGIN:VTIMEZONE
TZID:America/New_York
BEGIN:DAYLIGHT
TZOFFSETFROM:-0500
TZOFFSETTO:-0400
TZNAME:EDT
DTSTART:20210314T070000
END:DAYLIGHT
BEGIN:STANDARD
TZOFFSETFROM:-0400
TZOFFSETTO:-0500
TZNAME:EST
DTSTART:20211107T060000
END:STANDARD
BEGIN:DAYLIGHT
TZOFFSETFROM:-0500
TZOFFSETTO:-0400
TZNAME:EDT
DTSTART:20220313T070000
END:DAYLIGHT
BEGIN:STANDARD
TZOFFSETFROM:-0400
TZOFFSETTO:-0500
TZNAME:EST
DTSTART:20221106T060000
END:STANDARD
BEGIN:DAYLIGHT
TZOFFSETFROM:-0500
TZOFFSETTO:-0400
TZNAME:EDT
DTSTART:20230312T070000
END:DAYLIGHT
BEGIN:STANDARD
TZOFFSETFROM:-0400
TZOFFSETTO:-0500
TZNAME:EST
DTSTART:20231105T060000
END:STANDARD
END:VTIMEZONE
BEGIN:VEVENT
DTSTART;TZID=America/New_York:20221202T124000
DTEND;TZID=America/New_York:20221202T134000
DTSTAMP:20260425T074355
CREATED:20221003T160455Z
LAST-MODIFIED:20230410T145059Z
UID:10005149-1669984800-1669988400@wheatoncollege.edu
SUMMARY:French Table
DESCRIPTION:Come one Come All ! \nWHEN: Wednesdays/ Fridays \nTIME: 12:40-1:40 p.m. \nWHO: Anyone wanting to practice their French skills are welcome \nWHERE: Emerson dining hall\, look for the French flag! \nCONTACT US:  Email with questions or  comments:\n \nplace_alexandra@wheatoncollege.edu
URL:https://wheatoncollege.edu/event/french-table/2022-12-02/
LOCATION:Emerson Dining Room
CATEGORIES:Academic,Students
ORGANIZER;CN="Paula Smith-MacDonald":MAILTO:smith-macdonald_paula@wheatoncollege.edu
END:VEVENT
BEGIN:VEVENT
DTSTART;TZID=America/New_York:20221202T193000
DTEND;TZID=America/New_York:20221202T193000
DTSTAMP:20260425T074355
CREATED:20221115T192116Z
LAST-MODIFIED:20221115T203344Z
UID:10004430-1670009400-1670009400@wheatoncollege.edu
SUMMARY:Wind Symphony
DESCRIPTION:The Southeastern Massachusetts Wind Symphony\, under the direction of Associate Professor Earl Raney\, presents works by Debussy\, Grieg\, Milhaud\, Puccini\, plus several favorites! Suggested donation $5. 
URL:https://wheatoncollege.edu/event/wind-symphony-2/
LOCATION:Watson Fine Arts – Weber Theatre\, Norton\, MA\, 02766\, United States
CATEGORIES:Arts,Music
GEO:41.9629235;-71.1804988
END:VEVENT
END:VCALENDAR