	BEGIN:VCALENDAR
VERSION:2.0
PRODID:-//Wheaton College Massachusetts - ECPv6.15.17.1//NONSGML v1.0//EN
CALSCALE:GREGORIAN
METHOD:PUBLISH
X-ORIGINAL-URL:https://wheatoncollege.edu
X-WR-CALDESC:Events for Wheaton College Massachusetts
REFRESH-INTERVAL;VALUE=DURATION:PT1H
X-Robots-Tag:noindex
X-PUBLISHED-TTL:PT1H
BEGIN:VTIMEZONE
TZID:America/New_York
BEGIN:DAYLIGHT
TZOFFSETFROM:-0500
TZOFFSETTO:-0400
TZNAME:EDT
DTSTART:20210314T070000
END:DAYLIGHT
BEGIN:STANDARD
TZOFFSETFROM:-0400
TZOFFSETTO:-0500
TZNAME:EST
DTSTART:20211107T060000
END:STANDARD
BEGIN:DAYLIGHT
TZOFFSETFROM:-0500
TZOFFSETTO:-0400
TZNAME:EDT
DTSTART:20220313T070000
END:DAYLIGHT
BEGIN:STANDARD
TZOFFSETFROM:-0400
TZOFFSETTO:-0500
TZNAME:EST
DTSTART:20221106T060000
END:STANDARD
BEGIN:DAYLIGHT
TZOFFSETFROM:-0500
TZOFFSETTO:-0400
TZNAME:EDT
DTSTART:20230312T070000
END:DAYLIGHT
BEGIN:STANDARD
TZOFFSETFROM:-0400
TZOFFSETTO:-0500
TZNAME:EST
DTSTART:20231105T060000
END:STANDARD
END:VTIMEZONE
BEGIN:VEVENT
DTSTART;TZID=America/New_York:20221110T130000
DTEND;TZID=America/New_York:20221110T130000
DTSTAMP:20260419T114434
CREATED:20221102T221325Z
LAST-MODIFIED:20221102T221647Z
UID:10005176-1668085200-1668085200@wheatoncollege.edu
SUMMARY:Enough: An Actor’s Pathway to Radical Presence in a World of Emotional Noise
DESCRIPTION:In this inspiring and educational talk\, Amelia Randolph Campbell teaches how to gain radical presence and authentic influence by way of experiential learning\, to gain much more emotional flexibility\, clarity\, and magnetism in life and work. Lunch will be provided for attendees.
URL:https://wheatoncollege.edu/event/enough-an-actors-pathway-to-radical-presence-in-a-world-of-emotional-noise/
LOCATION:Mary Lyon Hall – Woolley Room\, Norton\, MA\, 02766\, United States
CATEGORIES:Arts
ORGANIZER;CN="Arts at Wheaton":MAILTO:kuszaj_jessica@wheatoncollege.edu
END:VEVENT
BEGIN:VEVENT
DTSTART;TZID=America/New_York:20221110T130000
DTEND;TZID=America/New_York:20221110T200000
DTSTAMP:20260419T114434
CREATED:20221214T205052Z
LAST-MODIFIED:20221214T205052Z
UID:10004926-1668085200-1668110400@wheatoncollege.edu
SUMMARY:Gallery Exhibition—The Tens: Friends of Art Alumni Collection 2011–2020
DESCRIPTION:The Tens\, highlights selected work from students who received the Friends of Art Purchase Prize from 2011-2020. These pieces are part of the Wheaton College Permanent Collection and range from photography to film to illustration. The talented alumni artists included in this exhibition are: \n2011 Katharine Heyl\, Emiko Kurokawa\, Rosemary Liss\n2012 Skye Landon\, Emily Timm\, Tim Oxton\n2013 Caroline Isaacs\, Walker Downey\n2014 Soraya Matos\n2015 Lindsey Gillis\n2016 Cloë Ella Urbanczyk\, Sienna Van Slooten\n2017 Charlotte Hall\n2018 Aleza Epstein\n2019 Bhavika Dugar\n2020 Elisa McClear \nExhibition runs February 16–March 27\, 2021 \nGallery Opening | Monday\, February 22\, 5:00 p.m. EST Register here  \nDue to the ongoing coronavirus (COVID-19) pandemic\, the Beard & Weil Galleries is only open to the on-campus community for the spring 2021 semester. We will make every effort to make our exhibitions available virtually during this time. We appreciate your patience as we navigate this global challenge and we look forward to welcoming you back to campus when we are able to resume normal operations.
URL:https://wheatoncollege.edu/event/gallery-exhibition-the-tens-friends-of-art-alumni-collection-2011-2020/2022-11-10/
LOCATION:Watson Fine Arts – Beard and Weil Galleries\, Norton\, MA\, 02766\, United States
CATEGORIES:Arts
ATTACH;FMTTYPE=image/jpeg:https://wheatoncollege.edu/wp-content/uploads/2021/02/the-tens_poster.jpg
ORGANIZER;CN="Arts at Wheaton":MAILTO:kuszaj_jessica@wheatoncollege.edu
GEO:41.9629235;-71.1804988
END:VEVENT
BEGIN:VEVENT
DTSTART;TZID=America/New_York:20221110T170000
DTEND;TZID=America/New_York:20221110T190000
DTSTAMP:20260419T114434
CREATED:20221017T185728Z
LAST-MODIFIED:20221116T024242Z
UID:10005169-1668099600-1668106800@wheatoncollege.edu
SUMMARY:Free MTEL Prep: Communication and Literacy
DESCRIPTION:Hello future teachers! \nAcademic Advising is providing free prep sessions for the Communication & Literacy MTEL from 5-7 PM on Thursday\, November 10 & Wednesday\, November 16.This exam (along with completion of an education program) is required to earn your teaching license. The Thursday (11/10) session will focus on the Reading subtest  and the Wednesday (11/16) session will focus on the Writing Subtest . No need to register for this event. \nLocation: Meneely 206 \nThe instructor will focus on reviewing your questions about the practice tests (click links below). In order to be prepared and benefit from the sessions\, it is important to complete and bring a copy(or have electronic access) of the Reading practice test (11/10) or the Writing test (11/16).
URL:https://wheatoncollege.edu/event/free-mtel-prep-communication-and-literacy/2022-11-10/
LOCATION:Meneely – 206\, Norton\, MA\, 02766\, United States
CATEGORIES:Career,Students
END:VEVENT
BEGIN:VEVENT
DTSTART;TZID=America/New_York:20221110T190000
DTEND;TZID=America/New_York:20221110T203000
DTSTAMP:20260419T114434
CREATED:20220922T173642Z
LAST-MODIFIED:20220928T184629Z
UID:10005129-1668106800-1668112200@wheatoncollege.edu
SUMMARY:Sadie T.M. Alexander: Safeguarding Democracy - Race\, Economic Uncertainty and the Rule of Law
DESCRIPTION:“Democracy must be defended today\, at any cost. Tomorrow\, when the principles which we can defend today have been passed into the hands of a totalitarian state\, will be too late\,” said our nation’s first Black economist\, Sadie T.M. Alexander\, in 1939. \nNina Banks\, Associate Professor of Economics and an affiliate of Women’s and Gender Studes and Critical Black Studies at Bucknell University\, discusses Alexander’s analysis of the rise in fascism and racial demagoguery in the U.S. during the 1930s.. \nSponsored by the Economics Department\, The Marshall Center for Social Justice and Community Impact and the Provost Office.
URL:https://wheatoncollege.edu/event/sadie-t-m-alexander-safeguarding-democracy-race-economic-uncertainty-and-the-rule-of-law/
LOCATION:Mary Lyon Hall – Holman Room\, Norton\, MA\, 02766\, United States
CATEGORIES:Academic
ATTACH;FMTTYPE=image/jpeg:https://wheatoncollege.edu/wp-content/uploads/2022/09/Poster-for-Banks-Lecture-11-10-22-1200.jpg
ORGANIZER;CN="Economics Department":MAILTO:wyss_brenda@wheatoncollege.edu
GEO:41.9629235;-71.1804988
END:VEVENT
BEGIN:VEVENT
DTSTART;TZID=America/New_York:20221110T193000
DTEND;TZID=America/New_York:20221110T193000
DTSTAMP:20260419T114434
CREATED:20221013T181207Z
LAST-MODIFIED:20221013T181207Z
UID:10005164-1668108600-1668108600@wheatoncollege.edu
SUMMARY:ROE
DESCRIPTION:written by Lisa Loomer\, directed by Stephanie Burlington Daniels \nROE v. Wade\, the landmark 1973 case that legalized abortion\, has been overturned.  Lisa Loomer’s acclaimed play\, ROE\, brings us back to the original storylines of the people involved in the case that gave women the constitutional right to make their own reproductive health decisions. Join us as we detangle recent U.S. history to better understand our present day challenges and how we might forge ahead for the benefit of future generations.  \nTickets: $10 general\, $5 with a Wheaton ID & seniors.\nTickets may be purchased online through the Box Office.
URL:https://wheatoncollege.edu/event/roe/2022-11-10/
LOCATION:Watson Fine Arts – Weber Theatre\, Norton\, MA\, 02766\, United States
CATEGORIES:Arts
ORGANIZER;CN="Arts at Wheaton":MAILTO:kuszaj_jessica@wheatoncollege.edu
GEO:41.9629235;-71.1804988
END:VEVENT
END:VCALENDAR