	BEGIN:VCALENDAR
VERSION:2.0
PRODID:-//Wheaton College Massachusetts - ECPv6.15.17.1//NONSGML v1.0//EN
CALSCALE:GREGORIAN
METHOD:PUBLISH
X-WR-CALNAME:Wheaton College Massachusetts
X-ORIGINAL-URL:https://wheatoncollege.edu
X-WR-CALDESC:Events for Wheaton College Massachusetts
REFRESH-INTERVAL;VALUE=DURATION:PT1H
X-Robots-Tag:noindex
X-PUBLISHED-TTL:PT1H
BEGIN:VTIMEZONE
TZID:America/New_York
BEGIN:DAYLIGHT
TZOFFSETFROM:-0500
TZOFFSETTO:-0400
TZNAME:EDT
DTSTART:20210314T070000
END:DAYLIGHT
BEGIN:STANDARD
TZOFFSETFROM:-0400
TZOFFSETTO:-0500
TZNAME:EST
DTSTART:20211107T060000
END:STANDARD
BEGIN:DAYLIGHT
TZOFFSETFROM:-0500
TZOFFSETTO:-0400
TZNAME:EDT
DTSTART:20220313T070000
END:DAYLIGHT
BEGIN:STANDARD
TZOFFSETFROM:-0400
TZOFFSETTO:-0500
TZNAME:EST
DTSTART:20221106T060000
END:STANDARD
BEGIN:DAYLIGHT
TZOFFSETFROM:-0500
TZOFFSETTO:-0400
TZNAME:EDT
DTSTART:20230312T070000
END:DAYLIGHT
BEGIN:STANDARD
TZOFFSETFROM:-0400
TZOFFSETTO:-0500
TZNAME:EST
DTSTART:20231105T060000
END:STANDARD
END:VTIMEZONE
BEGIN:VEVENT
DTSTART;TZID=America/New_York:20220429T090000
DTEND;TZID=America/New_York:20220429T150000
DTSTAMP:20260423T121507
CREATED:20220329T201328Z
LAST-MODIFIED:20220330T173007Z
UID:10005060-1651222800-1651244400@wheatoncollege.edu
SUMMARY:Social Impact Conference
DESCRIPTION:The Wheaton Social Impact Conference is an annual student-run conference at Wheaton College in Massachusetts. The conference brings together students\, professionals\, members of the local community\, and other interested individuals to think about the role of organizations in creating social impact. Participants will learn from distinguished practitioners and scholars working on the issue of social impact\, as well as from students and community members who are working to make the world a better place\, including participants in Wheaton’s Social Entrepreneurship Launch Program. \nThis is a two-day event: \nThursday\, April 28\, 2022 at 12–8 p.m.\nFriday\, April 29\, 2022 at 9 a.m.–3 p.m. \nRegister today
URL:https://wheatoncollege.edu/event/social-impact-conference-2/
LOCATION:Diana Davis Spencer Discovery Center – Lobby
CATEGORIES:Academic,Students
ORGANIZER;CN="Imran Chowdhury":MAILTO:chowdhury_imran@wheatoncollege.edu
END:VEVENT
BEGIN:VEVENT
DTSTART;TZID=America/New_York:20220429T130000
DTEND;TZID=America/New_York:20220429T170000
DTSTAMP:20260423T121507
CREATED:20220426T210625Z
LAST-MODIFIED:20220518T185514Z
UID:10005072-1651237200-1651251600@wheatoncollege.edu
SUMMARY:@capacity: 2022 Senior Visual Art Majors' Exhibition
DESCRIPTION:  \n  \n  \n  \n  \n  \nSenior Visual Art majors’ will present bodies of work in a variety of mediums including: illustration\, painting\, photography\, printmaking\, and sculpture. This group exhibition is mounted under the supervision of Assistant Professor of Photography Leah Dyjak. \nGallery hours: Tuesday\, Wednesday\, Friday & Saturday 1-5 p.m.; Thursdays 1-8 p.m. \nPlease note: Wheaton currently requires guests to wear a mask indoors regardless of vaccination status.
URL:https://wheatoncollege.edu/event/capacity-2022-senior-visual-art-majors-exhibition/2022-04-29/
LOCATION:Watson Fine Arts – Beard and Weil Galleries\, Norton\, MA\, 02766\, United States
CATEGORIES:Arts
ORGANIZER;CN="Arts at Wheaton":MAILTO:kuszaj_jessica@wheatoncollege.edu
GEO:41.9629235;-71.1804988
END:VEVENT
END:VCALENDAR