	BEGIN:VCALENDAR
VERSION:2.0
PRODID:-//Wheaton College Massachusetts - ECPv6.15.17.1//NONSGML v1.0//EN
CALSCALE:GREGORIAN
METHOD:PUBLISH
X-ORIGINAL-URL:https://wheatoncollege.edu
X-WR-CALDESC:Events for Wheaton College Massachusetts
REFRESH-INTERVAL;VALUE=DURATION:PT1H
X-Robots-Tag:noindex
X-PUBLISHED-TTL:PT1H
BEGIN:VTIMEZONE
TZID:America/New_York
BEGIN:DAYLIGHT
TZOFFSETFROM:-0500
TZOFFSETTO:-0400
TZNAME:EDT
DTSTART:20200308T070000
END:DAYLIGHT
BEGIN:STANDARD
TZOFFSETFROM:-0400
TZOFFSETTO:-0500
TZNAME:EST
DTSTART:20201101T060000
END:STANDARD
BEGIN:DAYLIGHT
TZOFFSETFROM:-0500
TZOFFSETTO:-0400
TZNAME:EDT
DTSTART:20210314T070000
END:DAYLIGHT
BEGIN:STANDARD
TZOFFSETFROM:-0400
TZOFFSETTO:-0500
TZNAME:EST
DTSTART:20211107T060000
END:STANDARD
BEGIN:DAYLIGHT
TZOFFSETFROM:-0500
TZOFFSETTO:-0400
TZNAME:EDT
DTSTART:20220313T070000
END:DAYLIGHT
BEGIN:STANDARD
TZOFFSETFROM:-0400
TZOFFSETTO:-0500
TZNAME:EST
DTSTART:20221106T060000
END:STANDARD
END:VTIMEZONE
BEGIN:VEVENT
DTSTART;TZID=America/New_York:20210421T183000
DTEND;TZID=America/New_York:20210421T200000
DTSTAMP:20260421T214958
CREATED:20210211T122914Z
LAST-MODIFIED:20210411T154305Z
UID:10004779-1619029800-1619035200@wheatoncollege.edu
SUMMARY:Making the Market: Jemuel Stephenson
DESCRIPTION:“Jemuel Stephenson is a Boston-based designer and entrepreneur specializing in digital fabrication for creative business.” \nJoin us on April 21st from 6:30PM to 8ish. Meet Jemuel and learn about how to start a small scale business rooted in laser cutting and digital fabrication. You’ll also learn about the tools you have access to on your own campus. Sign up here! \nWe will send zoom info or in person info closer to event date.
URL:https://wheatoncollege.edu/event/making-the-market-jemuel-stephenson/
LOCATION:Virtual
CATEGORIES:STEM,Students,Virtual
ATTACH;FMTTYPE=image/jpeg:https://wheatoncollege.edu/wp-content/uploads/2021/02/jemuel.jpg
ORGANIZER;CN="Madison Kate Dunaway":MAILTO:dunaway_madison@wheatoncollege.edu
END:VEVENT
END:VCALENDAR