	BEGIN:VCALENDAR
VERSION:2.0
PRODID:-//Wheaton College Massachusetts - ECPv6.15.17.1//NONSGML v1.0//EN
CALSCALE:GREGORIAN
METHOD:PUBLISH
X-WR-CALNAME:Wheaton College Massachusetts
X-ORIGINAL-URL:https://wheatoncollege.edu
X-WR-CALDESC:Events for Wheaton College Massachusetts
REFRESH-INTERVAL;VALUE=DURATION:PT1H
X-Robots-Tag:noindex
X-PUBLISHED-TTL:PT1H
BEGIN:VTIMEZONE
TZID:America/New_York
BEGIN:DAYLIGHT
TZOFFSETFROM:-0500
TZOFFSETTO:-0400
TZNAME:EDT
DTSTART:20180311T070000
END:DAYLIGHT
BEGIN:STANDARD
TZOFFSETFROM:-0400
TZOFFSETTO:-0500
TZNAME:EST
DTSTART:20181104T060000
END:STANDARD
BEGIN:DAYLIGHT
TZOFFSETFROM:-0500
TZOFFSETTO:-0400
TZNAME:EDT
DTSTART:20190310T070000
END:DAYLIGHT
BEGIN:STANDARD
TZOFFSETFROM:-0400
TZOFFSETTO:-0500
TZNAME:EST
DTSTART:20191103T060000
END:STANDARD
BEGIN:DAYLIGHT
TZOFFSETFROM:-0500
TZOFFSETTO:-0400
TZNAME:EDT
DTSTART:20200308T070000
END:DAYLIGHT
BEGIN:STANDARD
TZOFFSETFROM:-0400
TZOFFSETTO:-0500
TZNAME:EST
DTSTART:20201101T060000
END:STANDARD
END:VTIMEZONE
BEGIN:VEVENT
DTSTART;TZID=America/New_York:20191004T091500
DTEND;TZID=America/New_York:20191004T121500
DTSTAMP:20260419T161319
CREATED:20190829T140840Z
LAST-MODIFIED:20190829T142003Z
UID:10004501-1570180500-1570191300@wheatoncollege.edu
SUMMARY:Free\, Confidential HIV & STD Testing
DESCRIPTION:GET YOURSELF TESTED! \nFREE\, CONFIDENTIAL HIV & STD TESTING\nby Taunton Family Planning \nBy appointment only – call Cynthia at 508-286-8210\nAppointments available from 9:15 AM to 12:15 PM\nHeld at Norton Medical Center \n\nChlamydia & Gonorrhea Testing (urine)\nRapid HIV Testing (finger stick)\nPregnancy Testing\n\nFor more information and/or to schedule an appointment\, contact:\nCynthia Maricle\, Assoc. Dir.\, Student Health Services\,\nat 508-286-8210 or maricle_cynthia@wheatoncollege.edu. \nConfidential testing is also available at Norton Medical Center\nM – F by appointment only.\nAll charges are submitted to your insurance.  Self-pay options are available\, as well.\nPlease contact Cynthia at 508-286-8210 to schedule an appointment\nor for more information.
URL:https://wheatoncollege.edu/event/free-confidential-hiv-std-testing-3/2019-10-04/
CATEGORIES:Health & Wellness,Students
ORGANIZER;CN="Cynthia Maricle":MAILTO:maricle_cynthia@wheatoncollege.edu
END:VEVENT
BEGIN:VEVENT
DTSTART;TZID=America/New_York:20191004T103000
DTEND;TZID=America/New_York:20191004T103000
DTSTAMP:20260419T161319
CREATED:20190930T134150Z
LAST-MODIFIED:20210901T202118Z
UID:10004585-1570185000-1570185000@wheatoncollege.edu
SUMMARY:Tanzania - Information Session
DESCRIPTION:Students interested in the faculty-led 2020 Summer course\, “Tanzania: Education and Development”  are welcome to an information session with the course instructor\, Donna Kerner\, Professor of Anthropology.  The course runs from May 27-June 24 and offers one Wheaton credit (BW and African Worlds connex).  All years and majors are eligible to apply.
URL:https://wheatoncollege.edu/event/163965/2019-10-04/
LOCATION:Balfour-Hood – 1960 Room\, Norton\, 02766\, United States
ATTACH;FMTTYPE=image/jpeg:https://wheatoncollege.edu/wp-content/uploads/2019/09/Tanzania-flyer-800.jpg
ORGANIZER;CN="Donna Kerner":MAILTO:dkerner@wheatonma.edu
GEO:41.9629235;-71.1804988
END:VEVENT
BEGIN:VEVENT
DTSTART;TZID=America/New_York:20191004T130000
DTEND;TZID=America/New_York:20191004T170000
DTSTAMP:20260419T161319
CREATED:20190909T155017Z
LAST-MODIFIED:20190917T205107Z
UID:10004558-1570194000-1570208400@wheatoncollege.edu
SUMMARY:For the Record: Political/Personal/Historical
DESCRIPTION:This exhibition brings together six artists\, Sara Jimenez\, Antonio McAfee\, Annu Palakunnathu Matthew\, Mendi + Keith Obadike\, and Dano Wall\, who are reframing historical images and information to encourage a shift in perceptions of race\, immigration\, and colonialism.
URL:https://wheatoncollege.edu/event/for-the-record-political-personal-historical/2019-10-04/
LOCATION:Watson Fine Arts – Beard and Weil Galleries\, Norton\, MA\, 02766\, United States
CATEGORIES:Arts
ATTACH;FMTTYPE=image/jpeg:https://wheatoncollege.edu/wp-content/uploads/2019/07/for-the-record_poster.jpg
ORGANIZER;CN="Elizabeth Hoy":MAILTO:hoy_elizabeth@wheatoncollege.edu
GEO:41.9629235;-71.1804988
END:VEVENT
BEGIN:VEVENT
DTSTART;TZID=America/New_York:20191004T160000
DTEND;TZID=America/New_York:20191004T173000
DTSTAMP:20260419T161319
CREATED:20190912T184040Z
LAST-MODIFIED:20190912T184040Z
UID:10004571-1570204800-1570210200@wheatoncollege.edu
SUMMARY:Artist Talk with Mendi and Keith Obadike
DESCRIPTION:Interdisciplinary artists Mendi and Keith Obadike will talk about their practice in sound\, new media\, and literature in conjunction with the exhibition For the Record. Exploring the implications of social and cultural systems in relation to blackness and identity\, they have investigated the commodification of race\, the visualization of untold stories as disappearing hypertext\, and the history of the subwoofer.
URL:https://wheatoncollege.edu/event/artist-talk-with-mendi-and-keith-obadike/
LOCATION:Watson Fine Arts – Beard and Weil Galleries\, Norton\, MA\, 02766\, United States
ATTACH;FMTTYPE=image/jpeg:https://wheatoncollege.edu/wp-content/uploads/2019/09/WheatonCollege_Obadike-e1579624808101.jpg
ORGANIZER;CN="Elizabeth Hoy":MAILTO:hoy_elizabeth@wheatoncollege.edu
GEO:41.9629235;-71.1804988
END:VEVENT
END:VCALENDAR